BEGIN:VCALENDAR
VERSION:2.0
PRODID:-//Volkschule Ennsdorf - ECPv6.15.11//NONSGML v1.0//EN
CALSCALE:GREGORIAN
METHOD:PUBLISH
X-WR-CALNAME:Volkschule Ennsdorf
X-ORIGINAL-URL:https://vsennsdorf.ac.at
X-WR-CALDESC:Veranstaltungen für Volkschule Ennsdorf
REFRESH-INTERVAL;VALUE=DURATION:PT1H
X-Robots-Tag:noindex
X-PUBLISHED-TTL:PT1H
BEGIN:VTIMEZONE
TZID:Europe/Berlin
BEGIN:DAYLIGHT
TZOFFSETFROM:+0100
TZOFFSETTO:+0200
TZNAME:CEST
DTSTART:20250330T010000
END:DAYLIGHT
BEGIN:STANDARD
TZOFFSETFROM:+0200
TZOFFSETTO:+0100
TZNAME:CET
DTSTART:20251026T010000
END:STANDARD
BEGIN:DAYLIGHT
TZOFFSETFROM:+0100
TZOFFSETTO:+0200
TZNAME:CEST
DTSTART:20260329T010000
END:DAYLIGHT
BEGIN:STANDARD
TZOFFSETFROM:+0200
TZOFFSETTO:+0100
TZNAME:CET
DTSTART:20261025T010000
END:STANDARD
BEGIN:DAYLIGHT
TZOFFSETFROM:+0100
TZOFFSETTO:+0200
TZNAME:CEST
DTSTART:20270328T010000
END:DAYLIGHT
BEGIN:STANDARD
TZOFFSETFROM:+0200
TZOFFSETTO:+0100
TZNAME:CET
DTSTART:20271031T010000
END:STANDARD
END:VTIMEZONE
BEGIN:VEVENT
DTSTART;VALUE=DATE:20260422
DTEND;VALUE=DATE:20260424
DTSTAMP:20260423T020552
CREATED:20260319T165238Z
LAST-MODIFIED:20260319T165407Z
UID:2467-1776816000-1776988799@vsennsdorf.ac.at
SUMMARY:Projekttage 4a + 4b
DESCRIPTION:Landeshauptstadt St. Pölten\nLesenacht im Kraftwerk Theiß
URL:https://vsennsdorf.ac.at/termine/projekttage-4a-4b/
END:VEVENT
BEGIN:VEVENT
DTSTART;VALUE=DATE:20260423
DTEND;VALUE=DATE:20260424
DTSTAMP:20260423T020552
CREATED:20260413T094359Z
LAST-MODIFIED:20260414T072226Z
UID:1671-1776902400-1776988799@vsennsdorf.ac.at
SUMMARY:schulärztliche Untersuchung der 2. Klassen
DESCRIPTION:
URL:https://vsennsdorf.ac.at/termine/schulaerztliche-untersuchung-der-2a-2b-3a/
END:VEVENT
END:VCALENDAR